BEGIN:VCALENDAR
VERSION:2.0
PRODID:-//Koninklijke Harmonie &#039;Takjes Worden Boomen&#039; Schilde - ECPv6.15.12.2//NONSGML v1.0//EN
CALSCALE:GREGORIAN
METHOD:PUBLISH
X-WR-CALNAME:Koninklijke Harmonie &#039;Takjes Worden Boomen&#039; Schilde
X-ORIGINAL-URL:https://www.twbschilde.be
X-WR-CALDESC:Events voor Koninklijke Harmonie &#039;Takjes Worden Boomen&#039; Schilde
REFRESH-INTERVAL;VALUE=DURATION:PT1H
X-Robots-Tag:noindex
X-PUBLISHED-TTL:PT1H
BEGIN:VTIMEZONE
TZID:UTC
BEGIN:STANDARD
TZOFFSETFROM:+0000
TZOFFSETTO:+0000
TZNAME:UTC
DTSTART:20230101T000000
END:STANDARD
END:VTIMEZONE
BEGIN:VEVENT
DTSTART;TZID=UTC:20241111T100000
DTEND;TZID=UTC:20241111T120000
DTSTAMP:20260423T013854
CREATED:20241102T081858Z
LAST-MODIFIED:20241102T081858Z
UID:585-1731319200-1731326400@www.twbschilde.be
SUMMARY:11 novemberviering in St.Guibertuskerk Schilde
DESCRIPTION:Op 11 november speelt de harmonie om 10.00 u  aan het monument in ’s Gravenwezel (naast de voordeur van kerk). Om 11 u spelen we eerst in de St.Guibertuskerk  in Schilde   en vervolgens op het kerkhof. Het geheel is een samenwerking tussen Scilla\, het gemeentebestuur en Takjes worden Boomen. \nHet is een mooi eerbetoon aan wie sneuvelde tijdens de oorlogen van de vorige eeuw.
URL:https://www.twbschilde.be/event/11-novemberviering-in-st-guibertuskerk-schilde/
END:VEVENT
END:VCALENDAR