BEGIN:VCALENDAR
VERSION:2.0
PRODID:-//Koninklijke Harmonie &#039;Takjes Worden Boomen&#039; Schilde - ECPv6.15.12.2//NONSGML v1.0//EN
CALSCALE:GREGORIAN
METHOD:PUBLISH
X-ORIGINAL-URL:https://www.twbschilde.be
X-WR-CALDESC:Events voor Koninklijke Harmonie &#039;Takjes Worden Boomen&#039; Schilde
REFRESH-INTERVAL;VALUE=DURATION:PT1H
X-Robots-Tag:noindex
X-PUBLISHED-TTL:PT1H
BEGIN:VTIMEZONE
TZID:UTC
BEGIN:STANDARD
TZOFFSETFROM:+0000
TZOFFSETTO:+0000
TZNAME:UTC
DTSTART:20240101T000000
END:STANDARD
END:VTIMEZONE
BEGIN:VEVENT
DTSTART;VALUE=DATE:20250802
DTEND;VALUE=DATE:20250803
DTSTAMP:20260422T022949
CREATED:20250527T141257Z
LAST-MODIFIED:20250527T160149Z
UID:1485-1754092800-1754179199@www.twbschilde.be
SUMMARY:TWB live op het Bosconcert van VVV
DESCRIPTION:Zet je schrap voor een sfeervolle namiddag vol muziek in het groen! TWB treedt op tijdens het jaarlijkse Bosconcert van VVV. \n📅 Datum: zaterdag 2 augustus 2025🕔 Uur: 17:00📍 Locatie: Jaarlijks Bosconcert georganiseerd door Harmonie VVV \nMeer info via: harmonievvv.be \nMis het niet!
URL:https://www.twbschilde.be/event/%f0%9f%8e%b6-twb-live-op-het-bosconcert-van-vvv-%f0%9f%8c%b3/
LOCATION:Harmonie VVV Schilde\, Rozenhoek 8\, Schilde\, 2970\, Belgium
END:VEVENT
BEGIN:VEVENT
DTSTART;VALUE=DATE:20250816
DTEND;VALUE=DATE:20250817
DTSTAMP:20260422T022949
CREATED:20250527T134414Z
LAST-MODIFIED:20250527T160102Z
UID:1475-1755302400-1755388799@www.twbschilde.be
SUMMARY:TWB op Dorpshappening Wezel
DESCRIPTION:TWB is erbij op zaterdag 16 augustus tijdens de Dorpshappening in Wezel! We brengen een live-optreden op het Lodewijk De Vochtplein – het exacte uur volgt nog\, maar sfeer gegarandeerd! \nDaarnaast is er die dag ook een gezellig dorpsterras\, kinderanimatie\, liveoptredens en DJ-sets. \n🎉 Naar aanleiding van ons 130-jarig bestaan is er nu ook een TWB-webshop met leuke gadgets.👉 Ontdek het aanbod via https://app.twizzit.com/go/webshoptwb \nℹ️ Volledig programma van de Dorpshappening: www.eenhartvoorwezel.be/dorpshappening \nTot dan! 🎷🥁
URL:https://www.twbschilde.be/event/%f0%9f%8e%ba-twb-op-de-dorpshappening-zaterdag-16-augustus-%f0%9f%8e%b6/
LOCATION:Lodewijk de Vochtplein\, ‘s-Gravenwezel\, Lodewijk de Vochtplein\, 's-Gravenwezel\, 2970\, Belgium
END:VEVENT
BEGIN:VEVENT
DTSTART;VALUE=DATE:20250831
DTEND;VALUE=DATE:20250901
DTSTAMP:20260422T022949
CREATED:20250527T141924Z
LAST-MODIFIED:20250527T141924Z
UID:1488-1756598400-1756684799@www.twbschilde.be
SUMMARY:SBS op Familieheemdag Scilla
DESCRIPTION:Op zondag 31 augustus 2025 organiseert Heemkundige Kring Scilla uit Schilde de jaarlijkse Familieheemdag. In de namiddag treedt SBS op. Meer info volgt via www.scilla.be.
URL:https://www.twbschilde.be/event/sbs-op-familieheemdag-scilla/
LOCATION:Scilla Schilde\, Alfons Van Den Sandelaan 4\, Schilde\, 2970\, Belgium
END:VEVENT
END:VCALENDAR