BEGIN:VCALENDAR
VERSION:2.0
PRODID:-//Koninklijke Harmonie &#039;Takjes Worden Boomen&#039; Schilde - ECPv6.15.12.2//NONSGML v1.0//EN
CALSCALE:GREGORIAN
METHOD:PUBLISH
X-ORIGINAL-URL:https://www.twbschilde.be
X-WR-CALDESC:Events voor Koninklijke Harmonie &#039;Takjes Worden Boomen&#039; Schilde
REFRESH-INTERVAL;VALUE=DURATION:PT1H
X-Robots-Tag:noindex
X-PUBLISHED-TTL:PT1H
BEGIN:VTIMEZONE
TZID:UTC
BEGIN:STANDARD
TZOFFSETFROM:+0000
TZOFFSETTO:+0000
TZNAME:UTC
DTSTART:20240101T000000
END:STANDARD
END:VTIMEZONE
BEGIN:VEVENT
DTSTART;TZID=UTC:20250912T200000
DTEND;TZID=UTC:20250912T213000
DTSTAMP:20260421T202304
CREATED:20250527T104945Z
LAST-MODIFIED:20250527T124106Z
UID:1414-1757707200-1757712600@www.twbschilde.be
SUMMARY:Revue: Stichting TWB in 1895
DESCRIPTION:  \n🎭 Revue “Stichting TWB in 1895” \nVrijdag 12 september 2025 – 20:00 \n📍 Grote zaal – WERF 44\, Schilde \n🎟️ GRATIS – reserveren verplicht via 👉 twizzit.com/go/feestweekendtwb \nNog niet gereserveerd? Niet getreurd\, reserveren kan tot net voor het evenement\, zolang de voorraad strekt \nTWB neemt u mee terug in de tijd naar 1895\, het oprichtingsjaar van de harmonie. In samenwerking met toneelkring Kunst Adelt en Scilla brengen we een muzikale en komische revue over hoe het allemaal begon – en dat op een waarheidsgetrouwe\, maar tegelijk heerlijk luchtige manier. \nDe centrale scène speelt zich af in het legendarische café Den Doornboom\, waar baron Van De Werve\, notaris Degrooff en muziekmeester Frans Van Dijk – duidelijk geïnspireerd door het lokale bier – samen het idee van een dorpsharmonie smeden. \n👤 Met gastrollen van Mon\, Marleen\, Guido en Frank (van TWB zelf)🎼 Met live muziek\, veel humor en historische decors👨‍👩‍👧‍👦 Geschikt voor alle leeftijden📲 Toegang enkel met digitaal of geprint ticket – geen toegang zonder.
URL:https://www.twbschilde.be/event/revue-stichting-twb-in-1895/
LOCATION:Werf 44\, Schoolstraat 44\, Schilde\, Antwerpen\, 2970\, Belgium
ATTACH;FMTTYPE=image/png:https://www.twbschilde.be/wp-content/uploads/2025/05/1-affiche-Revue.png
ORGANIZER;CN="TWB Schilde":MAILTO:info@twbschilde.be
END:VEVENT
BEGIN:VEVENT
DTSTART;TZID=UTC:20250913T110000
DTEND;TZID=UTC:20250913T123000
DTSTAMP:20260421T202304
CREATED:20250527T120458Z
LAST-MODIFIED:20250527T124027Z
UID:1451-1757761200-1757766600@www.twbschilde.be
SUMMARY:Aperitiefconcert: TWB viert 130 jaar
DESCRIPTION:  \n  \n📍 Grote zaal – WERF 44🎟️ GRATIS – reserveren verplicht via 👉 twizzit.com/go/feestweekendtwb \nNog niet gereserveerd? Niet getreurd\, reserveren kan tot net voor het evenement\, zolang de voorraad strekt \nTWB trakteert op een sfeervol en feestelijk aperitiefconcert onder leiding van dirigent Guy Delbrouck. Dit concert is extra bijzonder: het is het allerlaatste optreden van Guy als dirigent van onze harmonie. \nNa jarenlang leiding te hebben gegeven aan onze muzikanten met tomeloze energie\, veel muzikaal inzicht\, aanstekelijke lach en eindeloos geduld\, geeft Guy de baton officieel door aan zijn zoon Gregory Delbrouck. \nEen warm moment van dankbaarheid\, muziek en generaties verbonden door passie. \n🎶 Toegankelijke en feestelijke muziek🥂 Inclusief een gratis aperitief na het concert👪 Iedereen welkom – ook met kinderen
URL:https://www.twbschilde.be/event/aperitiefconcert-twb-viert-130-jaar/
LOCATION:Werf 44\, Schoolstraat 44\, Schilde\, Antwerpen\, 2970\, Belgium
ATTACH;FMTTYPE=image/png:https://www.twbschilde.be/wp-content/uploads/2025/05/2-affiche-aperitiefconcert.png
ORGANIZER;CN="TWB Schilde":MAILTO:info@twbschilde.be
END:VEVENT
BEGIN:VEVENT
DTSTART;TZID=UTC:20250913T190000
DTEND;TZID=UTC:20250913T230000
DTSTAMP:20260421T202304
CREATED:20250527T120659Z
LAST-MODIFIED:20250527T123927Z
UID:1453-1757790000-1757804400@www.twbschilde.be
SUMMARY:Bal Populair met DJ Danny Van Tichelen (Radio Minerva)
DESCRIPTION:  \n  \n  \n🕖 Deuren open vanaf 19:00📍 Grote zaal – WERF 44🎟️ €10 – vooraf te reservern/betalen via 👉 twizzit.com/go/feestweekendtwb \nNog niet gereserveerd? Niet getreurd\, reserveren kan tot net voor het evenement\, zolang de voorraad strekt \n’s Avonds halen we de dansbenen boven voor een heerlijk nostalgisch Bal Populair. DJ Danny Van Tichelen\, bekend van Radio Minerva\, brengt de gouden klassiekers van de jaren ’60\, ’70\, ’80 en ’90. Denk aan crooners\, rock-‘n-roll en dansbare evergreens – van Elvis tot de Rolling Stones. \nGuy en Ingrid openen de avond met een officiële openingsdans\, waarna de dansvloer van WERF 44 de rest van de avond opwarmt. \n🍻 De bar van TWB opent om 19:00👠 Breng je danspartner\, familie of buren mee – iedereen welkom!📲 Enkel toegang met geldig betaald ticket
URL:https://www.twbschilde.be/event/bal-populair-met-dj-danny-van-tichelen-radio-minerva/
LOCATION:Werf 44\, Schoolstraat 44\, Schilde\, Antwerpen\, 2970\, Belgium
ATTACH;FMTTYPE=image/png:https://www.twbschilde.be/wp-content/uploads/2025/05/3-bal-populair.png
ORGANIZER;CN="TWB Schilde":MAILTO:info@twbschilde.be
END:VEVENT
BEGIN:VEVENT
DTSTART;TZID=UTC:20250914T103000
DTEND;TZID=UTC:20250914T111500
DTSTAMP:20260421T202304
CREATED:20250527T120947Z
LAST-MODIFIED:20250527T120947Z
UID:1455-1757845800-1757848500@www.twbschilde.be
SUMMARY:Feestelijk optocht door het centrum van Schilde
DESCRIPTION:📍 Verzamelen aan de kerk van Schilde om 10:30🎟️ GRATIS – geen reservatie nodig \nWe wekken Schilde vrolijk op met een feestelijke muzikale optocht onder leiding van Louis Van Ham. De Muziekkapel van Chiro Schelle blaast letterlijk de zondagochtend op gang\, van de kerk richting WERF 44. \nKom mee stappen\, zwaaien of genieten langs het parcours – jong én oud zijn welkom om deze muzikale stoet mee te beleven.
URL:https://www.twbschilde.be/event/feestelijk-optocht-door-het-centrum-van-schilde/
LOCATION:Kerk Schilde\, Kerkplein\, Schilde\, 2970\, Belgium
ORGANIZER;CN="TWB Schilde":MAILTO:info@twbschilde.be
END:VEVENT
BEGIN:VEVENT
DTSTART;TZID=UTC:20250914T130000
DTEND;TZID=UTC:20250914T200000
DTSTAMP:20260421T202304
CREATED:20250527T121311Z
LAST-MODIFIED:20250824T173021Z
UID:1459-1757854800-1757880000@www.twbschilde.be
SUMMARY:Verbroederingsnamiddag met kinderanimatie
DESCRIPTION:  \n📍 Grote zaal – WERF 44🎟️ GRATIS – reserveren verplicht via 👉 twizzit.com/go/feestweekendtwb \nNog niet gereserveerd? Niet getreurd\, reserveren kan tot net voor het evenement\, zolang de voorraad strekt \nDe feeststemming zet zich verder met een namiddag vol muziekoptredens van bevriende muziekverenigingen. Een gezellige ontmoeting tussen generaties\, stijlen en dorpen: \n🎼 Met optredens van: \n\n13u-14u: SBS (streetband TWB)\n14u15 – 15u15: Koninklijke Fanfare Willen is Kunnen (Berendrecht)\n15u30 – 16u30: Accordeonensemble Cosy\n16u45 – 17u45: Koor Ummagumma\, o.l.v. Guy Delbrouck\n18u – 20u: Blaaskapel Flamicanka – Europees kampioen Mittelstufe 2023\n\n🎈 Kinderanimatie voorzien☕ Koffie en gebak te koop📲 Reserveren aanbevolen – toegang enkel met ticket aan de ingang \n  \n 
URL:https://www.twbschilde.be/event/verbroederingsnamiddag-met-kinderanimatie/
LOCATION:Werf 44\, Schoolstraat 44\, Schilde\, Antwerpen\, 2970\, Belgium
ATTACH;FMTTYPE=image/png:https://www.twbschilde.be/wp-content/uploads/2025/05/4-muzikale-verbroedering.png
ORGANIZER;CN="TWB Schilde":MAILTO:info@twbschilde.be
END:VEVENT
BEGIN:VEVENT
DTSTART;TZID=UTC:20250915T193000
DTEND;TZID=UTC:20250915T213000
DTSTAMP:20260421T202304
CREATED:20250527T121650Z
LAST-MODIFIED:20250831T142506Z
UID:1461-1757964600-1757971800@www.twbschilde.be
SUMMARY:Slotmoment: Academische zitting
DESCRIPTION:  \n  \n🕗 19:30📍 Grotee zaal – WERF 44🎟️ GRATIS – reserveren verplicht via 👉 twizzit.com/go/feestweekendtwb \nNog niet gereserveerd? Niet getreurd\, reserveren kan tot net voor het evenement\, zolang de voorraad strekt \nWe sluiten ons jubileumfeest af met een plechtige academische zitting. Met toespraken van genodigden en vertegenwoordigers uit het culturele leven van Schilde kijken we terug op 130 jaar muziek\, gemeenschap en inzet. \nNa de zitting klinken we nog samen tijdens een gezellige drink op het verleden én de toekomst van TWB. \n👤 Voor leden\, sympathisanten en gasten🥂 Inclusief gratis afscheidsdrink
URL:https://www.twbschilde.be/event/slotmoment-academische-zitting/
LOCATION:Werf 44\, Schoolstraat 44\, Schilde\, Antwerpen\, 2970\, Belgium
ATTACH;FMTTYPE=image/png:https://www.twbschilde.be/wp-content/uploads/2025/05/Academische-zitting-19.30u.png
ORGANIZER;CN="TWB Schilde":MAILTO:info@twbschilde.be
END:VEVENT
END:VCALENDAR